BEGIN:VCALENDAR
VERSION:2.0
PRODID:-//Nebraska Association of Public Employees - ECPv6.15.17.1//NONSGML v1.0//EN
CALSCALE:GREGORIAN
METHOD:PUBLISH
X-ORIGINAL-URL:https://napeafscme.org
X-WR-CALDESC:Events for Nebraska Association of Public Employees
REFRESH-INTERVAL;VALUE=DURATION:PT1H
X-Robots-Tag:noindex
X-PUBLISHED-TTL:PT1H
BEGIN:VTIMEZONE
TZID:America/Chicago
BEGIN:DAYLIGHT
TZOFFSETFROM:-0600
TZOFFSETTO:-0500
TZNAME:CDT
DTSTART:20230312T080000
END:DAYLIGHT
BEGIN:STANDARD
TZOFFSETFROM:-0500
TZOFFSETTO:-0600
TZNAME:CST
DTSTART:20231105T070000
END:STANDARD
BEGIN:DAYLIGHT
TZOFFSETFROM:-0600
TZOFFSETTO:-0500
TZNAME:CDT
DTSTART:20240310T080000
END:DAYLIGHT
BEGIN:STANDARD
TZOFFSETFROM:-0500
TZOFFSETTO:-0600
TZNAME:CST
DTSTART:20241103T070000
END:STANDARD
BEGIN:DAYLIGHT
TZOFFSETFROM:-0600
TZOFFSETTO:-0500
TZNAME:CDT
DTSTART:20250309T080000
END:DAYLIGHT
BEGIN:STANDARD
TZOFFSETFROM:-0500
TZOFFSETTO:-0600
TZNAME:CST
DTSTART:20251102T070000
END:STANDARD
END:VTIMEZONE
BEGIN:VEVENT
DTSTART;TZID=America/Chicago:20241008T173000
DTEND;TZID=America/Chicago:20241008T183000
DTSTAMP:20260421T031544
CREATED:20240828T151811Z
LAST-MODIFIED:20240828T151811Z
UID:10000941-1728408600-1728412200@napeafscme.org
SUMMARY:Lincoln Area Union Meeting
DESCRIPTION:Contract negotiations are underway! Join us at our union meeting where the negotiations team will share an update on our early progress. Additionally\, our legal team has been hard at work standing up for our rights on a number of important cases at arbitration\, the State Personnel Board\, CIR\, District Court\, and Supreme Court. We’ll provide an overview of these cases\, and why our advocacy work is important to all state employees. Together we can win! This meeting is open to all state employees\, so please bring a colleague as we continue to grow for power at the bargaining table.
URL:https://napeafscme.org/event/lincoln-area-union-meeting-2/
LOCATION:Lincoln Firefighters Reception Hall
END:VEVENT
END:VCALENDAR