BEGIN:VCALENDAR
VERSION:2.0
PRODID:-//Nebraska Association of Public Employees - ECPv6.15.17.1//NONSGML v1.0//EN
CALSCALE:GREGORIAN
METHOD:PUBLISH
X-WR-CALNAME:Nebraska Association of Public Employees
X-ORIGINAL-URL:https://napeafscme.org
X-WR-CALDESC:Events for Nebraska Association of Public Employees
REFRESH-INTERVAL;VALUE=DURATION:PT1H
X-Robots-Tag:noindex
X-PUBLISHED-TTL:PT1H
BEGIN:VTIMEZONE
TZID:America/Chicago
BEGIN:DAYLIGHT
TZOFFSETFROM:-0600
TZOFFSETTO:-0500
TZNAME:CDT
DTSTART:20240310T080000
END:DAYLIGHT
BEGIN:STANDARD
TZOFFSETFROM:-0500
TZOFFSETTO:-0600
TZNAME:CST
DTSTART:20241103T070000
END:STANDARD
BEGIN:DAYLIGHT
TZOFFSETFROM:-0600
TZOFFSETTO:-0500
TZNAME:CDT
DTSTART:20250309T080000
END:DAYLIGHT
BEGIN:STANDARD
TZOFFSETFROM:-0500
TZOFFSETTO:-0600
TZNAME:CST
DTSTART:20251102T070000
END:STANDARD
BEGIN:DAYLIGHT
TZOFFSETFROM:-0600
TZOFFSETTO:-0500
TZNAME:CDT
DTSTART:20260308T080000
END:DAYLIGHT
BEGIN:STANDARD
TZOFFSETFROM:-0500
TZOFFSETTO:-0600
TZNAME:CST
DTSTART:20261101T070000
END:STANDARD
END:VTIMEZONE
BEGIN:VEVENT
DTSTART;TZID=America/Chicago:20250725T100000
DTEND;TZID=America/Chicago:20250725T133000
DTSTAMP:20260421T065138
CREATED:20250701T130015Z
LAST-MODIFIED:20250701T130015Z
UID:10001095-1753437600-1753450200@napeafscme.org
SUMMARY:Nebraska State Office Building Goodie Bag Giveaway
DESCRIPTION:All employees are invited to drop by our tent on Centennial Mall anytime between 10am-1:30pm to grab a free union goodie bag and chat about our new contract benefits and your pay raise.
URL:https://napeafscme.org/event/nebraska-state-office-building-goodie-bag-giveaway/
LOCATION:Nebraska State Office Building
END:VEVENT
BEGIN:VEVENT
DTSTART;TZID=America/Chicago:20250725T110000
DTEND;TZID=America/Chicago:20250725T130000
DTSTAMP:20260421T065138
CREATED:20250701T130418Z
LAST-MODIFIED:20250701T130418Z
UID:10001100-1753441200-1753448400@napeafscme.org
SUMMARY:State Patrol Headquarters Goodie Bag Giveaway
DESCRIPTION:All employees are invited to drop by Room 087 anytime between 11am-1pm to grab a free union goodie bag and chat about our new contract benefits and your pay raise.
URL:https://napeafscme.org/event/state-patrol-headquarters-goodie-bag-giveaway/
LOCATION:State Patrol HQ Lincoln
END:VEVENT
BEGIN:VEVENT
DTSTART;TZID=America/Chicago:20250725T110000
DTEND;TZID=America/Chicago:20250725T130000
DTSTAMP:20260421T065138
CREATED:20250701T130729Z
LAST-MODIFIED:20250701T130729Z
UID:10001105-1753441200-1753448400@napeafscme.org
SUMMARY:Game & Parks Headquarters Goodie Bag Giveaway
DESCRIPTION:All employees are invited to drop by the 1st Floor Conference Room anytime between 11am-1pm to grab a free union goodie bag and chat about our new contract benefits and your pay raise.
URL:https://napeafscme.org/event/game-parks-headquarters-goodie-bag-giveaway/
END:VEVENT
BEGIN:VEVENT
DTSTART;TZID=America/Chicago:20250725T110000
DTEND;TZID=America/Chicago:20250725T130000
DTSTAMP:20260421T065138
CREATED:20250701T131605Z
LAST-MODIFIED:20250701T131605Z
UID:10001116-1753441200-1753448400@napeafscme.org
SUMMARY:Columbus DHHS Local Office Goodie Bag Giveaway
DESCRIPTION:All employees are invited to drop by Conference Room 103 anytime between 11am-1pm to grab a free union goodie bag and chat about our new contract benefits and your pay raise.
URL:https://napeafscme.org/event/columbus-dhhs-local-office-goodie-bag-giveaway/
END:VEVENT
BEGIN:VEVENT
DTSTART;TZID=America/Chicago:20250725T110000
DTEND;TZID=America/Chicago:20250725T133000
DTSTAMP:20260421T065138
CREATED:20250701T132121Z
LAST-MODIFIED:20250701T132121Z
UID:10001122-1753441200-1753450200@napeafscme.org
SUMMARY:Buffalo County Courthouse Goodie Bag Giveaway
DESCRIPTION:All employees are invited to drop by the DHHS Large Conference Room anytime between 11am-1:30pm to grab a free union goodie bag and chat about our new contract benefits and your pay raise.
URL:https://napeafscme.org/event/buffalo-county-courthouse-goodie-bag-giveaway/
LOCATION:Buffalo County Courthouse\, Kearney
END:VEVENT
BEGIN:VEVENT
DTSTART;TZID=America/Chicago:20250725T113000
DTEND;TZID=America/Chicago:20250725T143000
DTSTAMP:20260421T065138
CREATED:20250701T125600Z
LAST-MODIFIED:20250701T125600Z
UID:10001090-1753443000-1753453800@napeafscme.org
SUMMARY:Lincoln Regional Center Goodie Bag Giveaway
DESCRIPTION:All employees are invited to drop by the Building 9 Lobby anytime between 11:30am-2:30pm to grab a free union goodie bag and chat about our new contract benefits and your pay raise.
URL:https://napeafscme.org/event/lincoln-regional-center-goodie-bag-giveaway/
LOCATION:Lincoln Regional Center
END:VEVENT
BEGIN:VEVENT
DTSTART;TZID=America/Chicago:20250725T113000
DTEND;TZID=America/Chicago:20250725T143000
DTSTAMP:20260421T065138
CREATED:20250701T131250Z
LAST-MODIFIED:20250701T131250Z
UID:10001111-1753443000-1753453800@napeafscme.org
SUMMARY:Beatrice State Developmental Center Goodie Bag Giveaway
DESCRIPTION:All employees are invited to drop by the administration building basement conference room anytime between 11:30am-2:30pm to grab a free union goodie bag and chat about our new contract benefits and your pay raise.
URL:https://napeafscme.org/event/beatrice-state-developmental-center-goodie-bag-giveaway/
LOCATION:BSDC – Administration Building
END:VEVENT
END:VCALENDAR