BEGIN:VCALENDAR
VERSION:2.0
PRODID:-//Nebraska Association of Public Employees - ECPv6.15.17.1//NONSGML v1.0//EN
CALSCALE:GREGORIAN
METHOD:PUBLISH
X-WR-CALNAME:Nebraska Association of Public Employees
X-ORIGINAL-URL:https://napeafscme.org
X-WR-CALDESC:Events for Nebraska Association of Public Employees
REFRESH-INTERVAL;VALUE=DURATION:PT1H
X-Robots-Tag:noindex
X-PUBLISHED-TTL:PT1H
BEGIN:VTIMEZONE
TZID:America/Chicago
BEGIN:DAYLIGHT
TZOFFSETFROM:-0600
TZOFFSETTO:-0500
TZNAME:CDT
DTSTART:20250309T080000
END:DAYLIGHT
BEGIN:STANDARD
TZOFFSETFROM:-0500
TZOFFSETTO:-0600
TZNAME:CST
DTSTART:20251102T070000
END:STANDARD
BEGIN:DAYLIGHT
TZOFFSETFROM:-0600
TZOFFSETTO:-0500
TZNAME:CDT
DTSTART:20260308T080000
END:DAYLIGHT
BEGIN:STANDARD
TZOFFSETFROM:-0500
TZOFFSETTO:-0600
TZNAME:CST
DTSTART:20261101T070000
END:STANDARD
BEGIN:DAYLIGHT
TZOFFSETFROM:-0600
TZOFFSETTO:-0500
TZNAME:CDT
DTSTART:20270314T080000
END:DAYLIGHT
BEGIN:STANDARD
TZOFFSETFROM:-0500
TZOFFSETTO:-0600
TZNAME:CST
DTSTART:20271107T070000
END:STANDARD
END:VTIMEZONE
BEGIN:VEVENT
DTSTART;TZID=America/Chicago:20260120T133000
DTEND;TZID=America/Chicago:20260120T143000
DTSTAMP:20260422T042434
CREATED:20251222T220523Z
LAST-MODIFIED:20251222T220523Z
UID:10001191-1768915800-1768919400@napeafscme.org
SUMMARY:Wayne State Support Staff Lunch
DESCRIPTION:Join us for our support staff lunch union meeting at Wayne State. This month\, we’ll talk about your rights during the annual performance evaluation process. Free lunch will be served.
URL:https://napeafscme.org/event/wayne-state-support-staff-lunch-2/
LOCATION:Wayne State College (Conn Library)
END:VEVENT
BEGIN:VEVENT
DTSTART;TZID=America/Chicago:20260120T173000
DTEND;TZID=America/Chicago:20260120T183000
DTSTAMP:20260422T042434
CREATED:20251218T222815Z
LAST-MODIFIED:20251218T222815Z
UID:10001190-1768930200-1768933800@napeafscme.org
SUMMARY:Norfolk Area Meeting
DESCRIPTION:Join us for your union meeting. This month\, we’ll talk about your rights during the annual performance evaluation process. Free pizza will be served.
URL:https://napeafscme.org/event/norfolk-area-meeting-26/
LOCATION:Pizza Ranch Norfolk\, 1700 Market Ln Suite 430\, Norfolk\, NE\, 68701
END:VEVENT
END:VCALENDAR