BEGIN:VCALENDAR
VERSION:2.0
PRODID:-//Nebraska Association of Public Employees - ECPv6.15.17.1//NONSGML v1.0//EN
CALSCALE:GREGORIAN
METHOD:PUBLISH
X-ORIGINAL-URL:https://napeafscme.org
X-WR-CALDESC:Events for Nebraska Association of Public Employees
REFRESH-INTERVAL;VALUE=DURATION:PT1H
X-Robots-Tag:noindex
X-PUBLISHED-TTL:PT1H
BEGIN:VTIMEZONE
TZID:America/Chicago
BEGIN:DAYLIGHT
TZOFFSETFROM:-0600
TZOFFSETTO:-0500
TZNAME:CDT
DTSTART:20250309T080000
END:DAYLIGHT
BEGIN:STANDARD
TZOFFSETFROM:-0500
TZOFFSETTO:-0600
TZNAME:CST
DTSTART:20251102T070000
END:STANDARD
BEGIN:DAYLIGHT
TZOFFSETFROM:-0600
TZOFFSETTO:-0500
TZNAME:CDT
DTSTART:20260308T080000
END:DAYLIGHT
BEGIN:STANDARD
TZOFFSETFROM:-0500
TZOFFSETTO:-0600
TZNAME:CST
DTSTART:20261101T070000
END:STANDARD
BEGIN:DAYLIGHT
TZOFFSETFROM:-0600
TZOFFSETTO:-0500
TZNAME:CDT
DTSTART:20270314T080000
END:DAYLIGHT
BEGIN:STANDARD
TZOFFSETFROM:-0500
TZOFFSETTO:-0600
TZNAME:CST
DTSTART:20271107T070000
END:STANDARD
END:VTIMEZONE
BEGIN:VEVENT
DTSTART;TZID=America/Chicago:20260513T190000
DTEND;TZID=America/Chicago:20260513T200000
DTSTAMP:20260423T032020
CREATED:20260422T172312Z
LAST-MODIFIED:20260422T172312Z
UID:10001237-1778698800-1778702400@napeafscme.org
SUMMARY:Insurance Changes Webinar
DESCRIPTION:With the changes regarding insurance\, have you wondered why health insurance rates are so high? Register here to learn more about the Nebraska state health insurance plan and what we can do about the cost. \n  \n 
URL:https://napeafscme.org/event/insurance-changes-webinar/
END:VEVENT
BEGIN:VEVENT
DTSTART;VALUE=DATE:20260613
DTEND;VALUE=DATE:20260615
DTSTAMP:20260423T032020
CREATED:20251204T165115Z
LAST-MODIFIED:20251204T165115Z
UID:10001184-1781308800-1781481599@napeafscme.org
SUMMARY:Omaha Leadership Training
DESCRIPTION:All NAPE/AFSCME members are welcome to attend our leadership training weekend in Omaha. Click here for more info and to sign up!
URL:https://napeafscme.org/event/omaha-leadership-training-2/
LOCATION:Marriott Omaha Regency
END:VEVENT
BEGIN:VEVENT
DTSTART;VALUE=DATE:20260829
DTEND;VALUE=DATE:20260831
DTSTAMP:20260423T032020
CREATED:20251204T165314Z
LAST-MODIFIED:20251204T165314Z
UID:10001185-1787961600-1788134399@napeafscme.org
SUMMARY:Scottsbluff Leadership Training
DESCRIPTION:All NAPE/AFSCME members are welcome to attend our leadership training weekend in Scottsbluff. Click here for more info and to sign up!
URL:https://napeafscme.org/event/scottsbluff-leadership-training-2/
LOCATION:Fairfield Inn Scottsbluff
END:VEVENT
END:VCALENDAR